BEGIN:VCALENDAR
VERSION:2.0
PRODID:-//Sitio Oficial de Pacto Global Red México - ECPv6.15.18//NONSGML v1.0//EN
CALSCALE:GREGORIAN
METHOD:PUBLISH
X-ORIGINAL-URL:https://pactoglobal.org.mx
X-WR-CALDESC:Eventos para Sitio Oficial de Pacto Global Red México
REFRESH-INTERVAL;VALUE=DURATION:PT1H
X-Robots-Tag:noindex
X-PUBLISHED-TTL:PT1H
BEGIN:VTIMEZONE
TZID:America/Chicago
BEGIN:DAYLIGHT
TZOFFSETFROM:-0600
TZOFFSETTO:-0500
TZNAME:CDT
DTSTART:20250309T080000
END:DAYLIGHT
BEGIN:STANDARD
TZOFFSETFROM:-0500
TZOFFSETTO:-0600
TZNAME:CST
DTSTART:20251102T070000
END:STANDARD
BEGIN:DAYLIGHT
TZOFFSETFROM:-0600
TZOFFSETTO:-0500
TZNAME:CDT
DTSTART:20260308T080000
END:DAYLIGHT
BEGIN:STANDARD
TZOFFSETFROM:-0500
TZOFFSETTO:-0600
TZNAME:CST
DTSTART:20261101T070000
END:STANDARD
BEGIN:DAYLIGHT
TZOFFSETFROM:-0600
TZOFFSETTO:-0500
TZNAME:CDT
DTSTART:20270314T080000
END:DAYLIGHT
BEGIN:STANDARD
TZOFFSETFROM:-0500
TZOFFSETTO:-0600
TZNAME:CST
DTSTART:20271107T070000
END:STANDARD
END:VTIMEZONE
BEGIN:VEVENT
DTSTART;TZID=America/Chicago:20260323T090000
DTEND;TZID=America/Chicago:20260325T130000
DTSTAMP:20260421T111626
CREATED:20260205T224159Z
LAST-MODIFIED:20260205T224159Z
UID:17270-1774256400-1774443600@pactoglobal.org.mx
SUMMARY:Taller: Fundamentos para reportar sostenibilidad bajo estándares internacionales (GRI\, SASB\, TCFD\, TNFD\, IFRS\, COP-ODS\, NIS)
DESCRIPTION:Eleva la calidad y credibilidad de tus reportes de sostenibilidad\nHoy\, los grupos de interés inversionistas\, clientes\, aliados y reguladores esperan información clara\, comparable y alineada a estándares internacionales. Elaborar reportes de sostenibilidad bajo marcos globales ya no es opcional: es una ventaja estratégica. \nEl Taller Fundamentos para reportar sostenibilidad bajo estándares internacionales está diseñado para fortalecer las capacidades de quienes participan en la elaboración\, revisión o comunicación de reportes ESG\, brindando una visión integral de los principales marcos de reporte utilizados a nivel global. \n¿Qué aprenderás en este taller? \n\n\n\n\n\nA lo largo de 3 sesiones virtuales\, las y los participantes: \n\n\n\n\n\n\n\n\n\n\nComprenderán los fundamentos de los principales estándares internacionales de reporte: GRI\, SASB\, TCFD\, TNFD\, IFRS\, COP-ODS y NIS.\nConocerán cómo estos marcos se complementan y cómo utilizarlos para responder a distintas expectativas de stakeholders.\nDesarrollarán capacidades para estructurar\, mejorar o fortalecer reportes de sostenibilidad y reportes ESG.\nAplicarán lo aprendido mediante ejercicios prácticos\, guiados por especialistas con amplia experiencia en reportes de sostenibilidad.\n\n\n\n\n\nA diferencia de talleres especializados en un solo estándar\, este taller ofrece una visión integral y comparativa\, clave para empresas que reportan o planean reportar bajo múltiples marcos. \nRegistrate aquí
URL:https://pactoglobal.org.mx/evento/taller-fundamentos-para-reportar-sostenibilidad-bajo-estandares-internacionales-gri-sasb-tcfd-tnfd-ifrs-cop-ods-nis/
ATTACH;FMTTYPE=image/jpeg:https://pactoglobal.org.mx/wp-content/uploads/2026/01/ReportarSostenibilidad-Horizontal-1.jpg
END:VEVENT
END:VCALENDAR