BEGIN:VCALENDAR
VERSION:2.0
PRODID:-//Sitio Oficial de Pacto Global Red México - ECPv6.15.18//NONSGML v1.0//EN
CALSCALE:GREGORIAN
METHOD:PUBLISH
X-WR-CALNAME:Sitio Oficial de Pacto Global Red México
X-ORIGINAL-URL:https://pactoglobal.org.mx
X-WR-CALDESC:Eventos para Sitio Oficial de Pacto Global Red México
REFRESH-INTERVAL;VALUE=DURATION:PT1H
X-Robots-Tag:noindex
X-PUBLISHED-TTL:PT1H
BEGIN:VTIMEZONE
TZID:America/Chicago
BEGIN:DAYLIGHT
TZOFFSETFROM:-0600
TZOFFSETTO:-0500
TZNAME:CDT
DTSTART:20250309T080000
END:DAYLIGHT
BEGIN:STANDARD
TZOFFSETFROM:-0500
TZOFFSETTO:-0600
TZNAME:CST
DTSTART:20251102T070000
END:STANDARD
BEGIN:DAYLIGHT
TZOFFSETFROM:-0600
TZOFFSETTO:-0500
TZNAME:CDT
DTSTART:20260308T080000
END:DAYLIGHT
BEGIN:STANDARD
TZOFFSETFROM:-0500
TZOFFSETTO:-0600
TZNAME:CST
DTSTART:20261101T070000
END:STANDARD
BEGIN:DAYLIGHT
TZOFFSETFROM:-0600
TZOFFSETTO:-0500
TZNAME:CDT
DTSTART:20270314T080000
END:DAYLIGHT
BEGIN:STANDARD
TZOFFSETFROM:-0500
TZOFFSETTO:-0600
TZNAME:CST
DTSTART:20271107T070000
END:STANDARD
END:VTIMEZONE
BEGIN:VEVENT
DTSTART;TZID=America/Chicago:20260707T100000
DTEND;TZID=America/Chicago:20260707T113000
DTSTAMP:20260421T171427
CREATED:20260324T183218Z
LAST-MODIFIED:20260324T183253Z
UID:17795-1783418400-1783423800@pactoglobal.org.mx
SUMMARY:Acelerador Ambición Climática | Inventario GEI: Q&A
DESCRIPTION:Sesión para resolver dudas sobre el conteo de emisiones de Gases de Efecto Invernadero (GEI) alcances 1\, 2 y 3 correspondientes al Módulo 1 del Acelerador de Ambición Climática. \n*Exclusivo para empresas adheridas a Pacto Global México\n*Exclusivo para empresas inscritas al programa acelerador\n*Para más información contactar a emilio.garcia@pactoglobal.org.mx
URL:https://pactoglobal.org.mx/evento/acelerador-ambicin-climtica-inventario-gei-qa/
ATTACH;FMTTYPE=image/jpeg:https://pactoglobal.org.mx/wp-content/uploads/2026/03/CAA2025-Eventos-01-2.jpg
END:VEVENT
END:VCALENDAR